BEGIN:VCALENDAR
VERSION:2.0
PRODID:-//Swadeshi Fest//EN
CALSCALE:GREGORIAN
METHOD:PUBLISH
BEGIN:VEVENT
UID:swadeshi-fest-2026-fri@swadeshifest.com
DTSTAMP:20260101T000000Z
DTSTART;TZID=America/Chicago:20260911T170000
DTEND;TZID=America/Chicago:20260911T220000
SUMMARY:Swadeshi Fest 2026 — Opening Night
DESCRIPTION:Evening Fest · Opening Night. Shop\, eat\, and celebrate at the Midwest's largest cultural festival. More info: https://www.swadeshifest.com
LOCATION:Naperville, IL
URL:https://www.swadeshifest.com
END:VEVENT
BEGIN:VEVENT
UID:swadeshi-fest-2026-sat@swadeshifest.com
DTSTAMP:20260101T000000Z
DTSTART;TZID=America/Chicago:20260912T110000
DTEND;TZID=America/Chicago:20260912T230000
SUMMARY:Swadeshi Fest 2026 — Full Day + Concert Night
DESCRIPTION:Full Day + Concert Night. Live music\, food\, shopping\, and cultural performances. More info: https://www.swadeshifest.com
LOCATION:Naperville, IL
URL:https://www.swadeshifest.com
END:VEVENT
BEGIN:VEVENT
UID:swadeshi-fest-2026-sun@swadeshifest.com
DTSTAMP:20260101T000000Z
DTSTART;TZID=America/Chicago:20260913T110000
DTEND;TZID=America/Chicago:20260913T200000
SUMMARY:Swadeshi Fest 2026 — Family Day
DESCRIPTION:Family Day · Kids' Activities. Games\, performances\, and family fun. More info: https://www.swadeshifest.com
LOCATION:Naperville, IL
URL:https://www.swadeshifest.com
END:VEVENT
END:VCALENDAR
